BEGIN:VCALENDAR
VERSION:2.0
PRODID:-//YANNIE&#039;s Blog - ECPv6.14.2//NONSGML v1.0//EN
CALSCALE:GREGORIAN
METHOD:PUBLISH
X-WR-CALNAME:YANNIE&#039;s Blog
X-ORIGINAL-URL:https://blog.theyannie.com
X-WR-CALDESC:YANNIE&#039;s Blog のイベント
REFRESH-INTERVAL;VALUE=DURATION:PT1H
X-Robots-Tag:noindex
X-PUBLISHED-TTL:PT1H
BEGIN:VTIMEZONE
TZID:Asia/Tokyo
BEGIN:STANDARD
TZOFFSETFROM:+0900
TZOFFSETTO:+0900
TZNAME:JST
DTSTART:20180101T000000
END:STANDARD
END:VTIMEZONE
BEGIN:VEVENT
DTSTART;TZID=Asia/Tokyo:20190218T190000
DTEND;TZID=Asia/Tokyo:20190218T223000
DTSTAMP:20260425T203012
CREATED:20190228T024156Z
LAST-MODIFIED:20190228T024233Z
UID:1402-1550516400-1550529000@blog.theyannie.com
SUMMARY:Singing Jazz @Edy’s Bar
DESCRIPTION:YANNIE’s Jazz Singing Night.\nDelicious Foods & Drinks!\nGood Music! No Cover Charge! \nEdy(Tp) KenKen(Pf) Matsuoka Yasuhiko(Gt) Pokiehl Sugi(Bs) Funky Endo(Ds) YANNIE(Vo)
URL:https://blog.theyannie.com/event/singing-jazz-edys-bar-20190218/
LOCATION:Edy’s Bar\, 〒101-0047 東京都千代田区内神田2-9-9 B1\, Japan
CATEGORIES:Edy’s Bar
ATTACH;FMTTYPE=image/png:https://blog.theyannie.com/wp/wp-content/uploads/2018/10/edysbarlogo.png
END:VEVENT
BEGIN:VEVENT
DTSTART;TZID=Asia/Tokyo:20190215T190000
DTEND;TZID=Asia/Tokyo:20190215T223000
DTSTAMP:20260425T203012
CREATED:20181130T030321Z
LAST-MODIFIED:20181130T030355Z
UID:1368-1550257200-1550269800@blog.theyannie.com
SUMMARY:Singing Jazz @Edy’s Bar
DESCRIPTION:YANNIE’s Jazz Singing Night.\nDelicious Foods & Drinks! Good Music! No Cover Charge! \nEdy(Tp) Fujita Hideo(Pf) Big-M(Bs) Umeda Minoru(Ds) YANNIE(Vo)
URL:https://blog.theyannie.com/event/singing-jazz-edys-bar-20190215/
LOCATION:Edy’s Bar\, 〒101-0047 東京都千代田区内神田2-9-9 B1\, Japan
CATEGORIES:Edy’s Bar
ATTACH;FMTTYPE=image/png:https://blog.theyannie.com/wp/wp-content/uploads/2018/10/edysbarlogo.png
END:VEVENT
BEGIN:VEVENT
DTSTART;TZID=Asia/Tokyo:20190125T190000
DTEND;TZID=Asia/Tokyo:20190125T223000
DTSTAMP:20260425T203012
CREATED:20181130T030032Z
LAST-MODIFIED:20181130T030032Z
UID:1366-1548442800-1548455400@blog.theyannie.com
SUMMARY:Singing Jazz @Edy’s Bar
DESCRIPTION:YANNIE’s Jazz Singing Night.\nDelicious Foods & Drinks! Good Music! No Cover Charge!\nIzuno Tadatoshi(Tb) Edy(Tp) Fujita Hideo(Pf)  YANNIE(Vo)
URL:https://blog.theyannie.com/event/singing-jazz-edys-bar-20190125/
LOCATION:Edy’s Bar\, 〒101-0047 東京都千代田区内神田2-9-9 B1\, Japan
CATEGORIES:Edy’s Bar
ATTACH;FMTTYPE=image/png:https://blog.theyannie.com/wp/wp-content/uploads/2018/10/edysbarlogo.png
END:VEVENT
BEGIN:VEVENT
DTSTART;TZID=Asia/Tokyo:20190117T190000
DTEND;TZID=Asia/Tokyo:20190117T223000
DTSTAMP:20260425T203012
CREATED:20181130T025333Z
LAST-MODIFIED:20181130T025408Z
UID:1364-1547751600-1547764200@blog.theyannie.com
SUMMARY:Singing Jazz @Edy’s Bar
DESCRIPTION:YANNIE’s Jazz Singing Night.\nDelicious Foods & Drinks! Good Music! No Cover Charge! \nEdy(Tp) Fujita Hideo(Pf) Big-M(Bs) Umeda Minoru(Ds) YANNIE(Vo)
URL:https://blog.theyannie.com/event/singing-jazz-edys-bar-20190117/
LOCATION:Edy’s Bar\, 〒101-0047 東京都千代田区内神田2-9-9 B1\, Japan
CATEGORIES:Edy’s Bar
ATTACH;FMTTYPE=image/png:https://blog.theyannie.com/wp/wp-content/uploads/2018/10/edysbarlogo.png
END:VEVENT
BEGIN:VEVENT
DTSTART;TZID=Asia/Tokyo:20181214T190000
DTEND;TZID=Asia/Tokyo:20181214T223000
DTSTAMP:20260425T203012
CREATED:20181025T062424Z
LAST-MODIFIED:20181130T025141Z
UID:1191-1544814000-1544826600@blog.theyannie.com
SUMMARY:Singing Jazz @Edy’s Bar
DESCRIPTION:YANNIE’s Jazz Singing Night.\nDelicious Foods & Drinks! Good Music! No Cover Charge! \nEdy(Tp) Fujita Hideo(Pf) Big-M(Bs) Umeda Minoru(Ds) YANNIE(Vo)
URL:https://blog.theyannie.com/event/singing-jazz-edys-bar-20181214/
LOCATION:Edy’s Bar\, 〒101-0047 東京都千代田区内神田2-9-9 B1\, Japan
CATEGORIES:Edy’s Bar
ATTACH;FMTTYPE=image/png:https://blog.theyannie.com/wp/wp-content/uploads/2018/10/edysbarlogo.png
END:VEVENT
BEGIN:VEVENT
DTSTART;TZID=Asia/Tokyo:20181129T190000
DTEND;TZID=Asia/Tokyo:20181129T223000
DTSTAMP:20260425T203012
CREATED:20181101T085654Z
LAST-MODIFIED:20181101T085654Z
UID:1278-1543518000-1543530600@blog.theyannie.com
SUMMARY:Singing Jazz @Edy’s Bar
DESCRIPTION:YANNIE’s Jazz Singing Night.\nDelicious Foods & Drinks! Good Music! No Cover Charge! \nEdy(Tp) Fujita Hideo(Pf) Big-M(Bs) Umeda Minoru(Ds) YANNIE(Vo)
URL:https://blog.theyannie.com/event/singing-jazz-edys-bar-20181129/
LOCATION:Edy’s Bar\, 〒101-0047 東京都千代田区内神田2-9-9 B1\, Japan
CATEGORIES:Edy’s Bar,Gigs
ATTACH;FMTTYPE=image/png:https://blog.theyannie.com/wp/wp-content/uploads/2018/10/edysbarlogo.png
END:VEVENT
BEGIN:VEVENT
DTSTART;TZID=Asia/Tokyo:20181119T190000
DTEND;TZID=Asia/Tokyo:20181119T223000
DTSTAMP:20260425T203012
CREATED:20181025T062224Z
LAST-MODIFIED:20181025T062251Z
UID:1189-1542654000-1542666600@blog.theyannie.com
SUMMARY:Singing Jazz @Edy’s Bar
DESCRIPTION:YANNIE’s Jazz Singing Night.\nDelicious Foods & Drinks! Good Music! No Cover Charge! \nEdy(Tp) KenKen(Pf) Matsuoka Yasuhiko(Gt) Pokiehl Sugi (Bs) Funky Endo(Ds) YANNIE(Vo)
URL:https://blog.theyannie.com/event/singing-jazz-edys-bar-20181119/
LOCATION:Edy’s Bar\, 〒101-0047 東京都千代田区内神田2-9-9 B1\, Japan
CATEGORIES:Edy’s Bar
ATTACH;FMTTYPE=image/png:https://blog.theyannie.com/wp/wp-content/uploads/2018/10/edysbarlogo.png
END:VEVENT
BEGIN:VEVENT
DTSTART;TZID=Asia/Tokyo:20181029T190000
DTEND;TZID=Asia/Tokyo:20181029T223000
DTSTAMP:20260425T203012
CREATED:20181002T083346Z
LAST-MODIFIED:20181018T063342Z
UID:889-1540839600-1540852200@blog.theyannie.com
SUMMARY:Singing Jazz @Edy's Bar
DESCRIPTION:YANNIE’s Jazz Singing Night.\nDelicious Foods & Drinks! Good Music! No Cover Charge!\nEdy(Tp) KenKen(Pf) Pokiehl Sugi (Bs) Funky Endo(Ds) YANNIE(Vo)
URL:https://blog.theyannie.com/event/singing-jazz-edys-bar-20181029/
LOCATION:Edy’s Bar\, 〒101-0047 東京都千代田区内神田2-9-9 B1\, Japan
CATEGORIES:Edy’s Bar,Gigs
ATTACH;FMTTYPE=image/png:https://blog.theyannie.com/wp/wp-content/uploads/2018/10/edysbarlogo.png
END:VEVENT
BEGIN:VEVENT
DTSTART;TZID=Asia/Tokyo:20181027T190000
DTEND;TZID=Asia/Tokyo:20181027T223000
DTSTAMP:20260425T203012
CREATED:20181025T062951Z
LAST-MODIFIED:20181025T064932Z
UID:1193-1540666800-1540679400@blog.theyannie.com
SUMMARY:Singing Jazz @Edy’s Bar
DESCRIPTION:YANNIE’s Jazz Singing Night.\nDelicious Foods & Drinks! Good Music! No Cover Charge! \nEdy(Tp) 藤田秀雄(Pf) YANNIE(Vo)
URL:https://blog.theyannie.com/event/singing-jazz-edys-bar-20181027/
LOCATION:Edy’s Bar\, 〒101-0047 東京都千代田区内神田2-9-9 B1\, Japan
CATEGORIES:Edy’s Bar
ATTACH;FMTTYPE=image/png:https://blog.theyannie.com/wp/wp-content/uploads/2018/10/edysbarlogo.png
END:VEVENT
BEGIN:VEVENT
DTSTART;TZID=Asia/Tokyo:20181003T190000
DTEND;TZID=Asia/Tokyo:20181003T223000
DTSTAMP:20260425T203012
CREATED:20181002T081018Z
LAST-MODIFIED:20181010T065310Z
UID:878-1538593200-1538605800@blog.theyannie.com
SUMMARY:Singing Jazz @Edy's Bar
DESCRIPTION:YANNIE’s Jazz Singing Night.\nDelicious Foods & Drinks! Good Music! No Cover Charge!\nEdy(Tp) KenKen(Pf) Pokiehl Sugi (Bs) Funky Endo(Ds) YANNIE(Vo)
URL:https://blog.theyannie.com/event/singing-jazz-edys-bar-20181003/
LOCATION:Edy’s Bar\, 〒101-0047 東京都千代田区内神田2-9-9 B1\, Japan
CATEGORIES:Edy’s Bar,Gigs
ATTACH;FMTTYPE=image/png:https://blog.theyannie.com/wp/wp-content/uploads/2018/10/edysbarlogo.png
END:VEVENT
END:VCALENDAR